BEGIN:VCALENDAR
VERSION:2.0
PRODID:-//Iota Phi Lambda - Epsilon Tau - ECPv6.15.12.2//NONSGML v1.0//EN
CALSCALE:GREGORIAN
METHOD:PUBLISH
X-WR-CALNAME:Iota Phi Lambda - Epsilon Tau
X-ORIGINAL-URL:https://www.iota-et.org
X-WR-CALDESC:Events for Iota Phi Lambda - Epsilon Tau
REFRESH-INTERVAL;VALUE=DURATION:PT1H
X-Robots-Tag:noindex
X-PUBLISHED-TTL:PT1H
BEGIN:VTIMEZONE
TZID:America/Chicago
BEGIN:DAYLIGHT
TZOFFSETFROM:-0600
TZOFFSETTO:-0500
TZNAME:CDT
DTSTART:20240310T080000
END:DAYLIGHT
BEGIN:STANDARD
TZOFFSETFROM:-0500
TZOFFSETTO:-0600
TZNAME:CST
DTSTART:20241103T070000
END:STANDARD
BEGIN:DAYLIGHT
TZOFFSETFROM:-0600
TZOFFSETTO:-0500
TZNAME:CDT
DTSTART:20250309T080000
END:DAYLIGHT
BEGIN:STANDARD
TZOFFSETFROM:-0500
TZOFFSETTO:-0600
TZNAME:CST
DTSTART:20251102T070000
END:STANDARD
BEGIN:DAYLIGHT
TZOFFSETFROM:-0600
TZOFFSETTO:-0500
TZNAME:CDT
DTSTART:20260308T080000
END:DAYLIGHT
BEGIN:STANDARD
TZOFFSETFROM:-0500
TZOFFSETTO:-0600
TZNAME:CST
DTSTART:20261101T070000
END:STANDARD
END:VTIMEZONE
BEGIN:VEVENT
DTSTART;TZID=America/Chicago:20251014T193000
DTEND;TZID=America/Chicago:20251014T210000
DTSTAMP:20260422T053558
CREATED:20251005T074058Z
LAST-MODIFIED:20251005T080606Z
UID:22676-1760470200-1760475600@www.iota-et.org
SUMMARY:ET Informational Meeting
DESCRIPTION:
URL:https://www.iota-et.org/event1/et-informational-meeting/
CATEGORIES:Membership
ATTACH;FMTTYPE=image/jpeg:https://www.iota-et.org/wp-content/uploads/2025/10/2025-ET-Informational.jpg
ORGANIZER;CN="Iota Phi Lambda%2C Epsilon Tau Chapter":MAILTO:epsilon_tau@yahoo.com
END:VEVENT
END:VCALENDAR